BEGIN:VCALENDAR
VERSION:2.0
PRODID:-//New York State Radiological Society - ECPv6.15.20//NONSGML v1.0//EN
CALSCALE:GREGORIAN
METHOD:PUBLISH
X-WR-CALNAME:New York State Radiological Society
X-ORIGINAL-URL:https://nysrs.org
X-WR-CALDESC:Events for New York State Radiological Society
REFRESH-INTERVAL;VALUE=DURATION:PT1H
X-Robots-Tag:noindex
X-PUBLISHED-TTL:PT1H
BEGIN:VTIMEZONE
TZID:America/New_York
BEGIN:DAYLIGHT
TZOFFSETFROM:-0500
TZOFFSETTO:-0400
TZNAME:EDT
DTSTART:20220313T070000
END:DAYLIGHT
BEGIN:STANDARD
TZOFFSETFROM:-0400
TZOFFSETTO:-0500
TZNAME:EST
DTSTART:20221106T060000
END:STANDARD
BEGIN:DAYLIGHT
TZOFFSETFROM:-0500
TZOFFSETTO:-0400
TZNAME:EDT
DTSTART:20230312T070000
END:DAYLIGHT
BEGIN:STANDARD
TZOFFSETFROM:-0400
TZOFFSETTO:-0500
TZNAME:EST
DTSTART:20231105T060000
END:STANDARD
BEGIN:DAYLIGHT
TZOFFSETFROM:-0500
TZOFFSETTO:-0400
TZNAME:EDT
DTSTART:20240310T070000
END:DAYLIGHT
BEGIN:STANDARD
TZOFFSETFROM:-0400
TZOFFSETTO:-0500
TZNAME:EST
DTSTART:20241103T060000
END:STANDARD
END:VTIMEZONE
BEGIN:VEVENT
DTSTART;TZID=America/New_York:20231107T180000
DTEND;TZID=America/New_York:20231107T200000
DTSTAMP:20260425T130223
CREATED:20231016T011728Z
LAST-MODIFIED:20241031T195959Z
UID:4869-1699380000-1699387200@nysrs.org
SUMMARY:2023 Annual Dr. Sara Abramson Career Workshop
DESCRIPTION:« All Events\n 				\n				\n				\n				\n					\n	NYSRS All Members Meeting Fall 2026				\n				\n				\n				\n					\n		\n			October 17\, 2026\n\n	\n\n	 @ \n\n\n8:00 am\n\n		\n\n\n\n	\n	 - \n\n12:00 pm\n\n\n\n	\n				\n				\n				\n				\n					\n	\n				\n				\n				\n						\n					\n			\n						\n				\n					\n	\n\n	Categories:	\n		All Members Meeting\, NYSRS	\n\n				\n				\n					\n		\n				\n			\n						\n				\n					\n	\n	NYSRS\n	\n	\n\n	Website:View Organizer Website \n\n\n\n				\n				\n					\n		\n					\n		\n				\n						\n					\n			\n							\n		\n					\n		\n				\n						\n					\n			\n						\n				\n					\n	\n		\n\n	\n	Add to calendar	\n		\n	\n\n		\n			\n									\n	Google Calendar\n\n									\n	iCalendar\n\n									\n	Outlook 365\n\n									\n	Outlook Live\n\n							\n		\n\n		\n	\n\n				\n				\n					\n		\n					\n		\n				\n						\n					\n			\n						\n				\n					\n	\n		\n\n				NYSRS Board Meeting Fall 2026
URL:https://nysrs.org/event/2023-annual-dr-sara-abramson-career-workshop/
CATEGORIES:NYSRS,RFS
ATTACH;FMTTYPE=image/jpeg:https://nysrs.org/wp-content/uploads/2023/10/2023v-Annual-Dr.-Sara-Abramson-Career-Workshop.jpeg
END:VEVENT
END:VCALENDAR