BEGIN:VCALENDAR
VERSION:2.0
PRODID:-//New York State Radiological Society - ECPv6.15.20//NONSGML v1.0//EN
CALSCALE:GREGORIAN
METHOD:PUBLISH
X-ORIGINAL-URL:https://nysrs.org
X-WR-CALDESC:Events for New York State Radiological Society
REFRESH-INTERVAL;VALUE=DURATION:PT1H
X-Robots-Tag:noindex
X-PUBLISHED-TTL:PT1H
BEGIN:VTIMEZONE
TZID:America/New_York
BEGIN:DAYLIGHT
TZOFFSETFROM:-0500
TZOFFSETTO:-0400
TZNAME:EDT
DTSTART:20220313T070000
END:DAYLIGHT
BEGIN:STANDARD
TZOFFSETFROM:-0400
TZOFFSETTO:-0500
TZNAME:EST
DTSTART:20221106T060000
END:STANDARD
BEGIN:DAYLIGHT
TZOFFSETFROM:-0500
TZOFFSETTO:-0400
TZNAME:EDT
DTSTART:20230312T070000
END:DAYLIGHT
BEGIN:STANDARD
TZOFFSETFROM:-0400
TZOFFSETTO:-0500
TZNAME:EST
DTSTART:20231105T060000
END:STANDARD
BEGIN:DAYLIGHT
TZOFFSETFROM:-0500
TZOFFSETTO:-0400
TZNAME:EDT
DTSTART:20240310T070000
END:DAYLIGHT
BEGIN:STANDARD
TZOFFSETFROM:-0400
TZOFFSETTO:-0500
TZNAME:EST
DTSTART:20241103T060000
END:STANDARD
BEGIN:DAYLIGHT
TZOFFSETFROM:-0500
TZOFFSETTO:-0400
TZNAME:EDT
DTSTART:20250309T070000
END:DAYLIGHT
BEGIN:STANDARD
TZOFFSETFROM:-0400
TZOFFSETTO:-0500
TZNAME:EST
DTSTART:20251102T060000
END:STANDARD
BEGIN:DAYLIGHT
TZOFFSETFROM:-0500
TZOFFSETTO:-0400
TZNAME:EDT
DTSTART:20260308T070000
END:DAYLIGHT
BEGIN:STANDARD
TZOFFSETFROM:-0400
TZOFFSETTO:-0500
TZNAME:EST
DTSTART:20261101T060000
END:STANDARD
BEGIN:DAYLIGHT
TZOFFSETFROM:-0500
TZOFFSETTO:-0400
TZNAME:EDT
DTSTART:20270314T070000
END:DAYLIGHT
BEGIN:STANDARD
TZOFFSETFROM:-0400
TZOFFSETTO:-0500
TZNAME:EST
DTSTART:20271107T060000
END:STANDARD
END:VTIMEZONE
BEGIN:VEVENT
DTSTART;TZID=America/New_York:20260321T170000
DTEND;TZID=America/New_York:20260321T210000
DTSTAMP:20260423T115702
CREATED:20251222T151420Z
LAST-MODIFIED:20251222T151719Z
UID:8378-1774112400-1774126800@nysrs.org
SUMMARY:NYSRS Board Meeting Spring 2026
DESCRIPTION:« All Events\n 				\n				\n				\n				\n					\n	NYSRS Board Meeting Fall 2026				\n				\n				\n				\n					\n		\n			October 16\, 2026\n\n	\n\n	 @ \n\n\n5:00 pm\n\n		\n\n\n\n	\n	 - \n\n9:00 pm\n\n\n\n	\n				\n				\n				\n				\n					\n	\n				\n				\n				\n						\n					\n			\n						\n				\n					\n	\n\n	Categories:	\n		Board Meeting\, NYSRS	\n\n				\n				\n					\n		\n				\n			\n						\n				\n					\n	\n	NYSRS\n	\n	\n\n	Website:View Organizer Website \n\n\n\n				\n				\n					\n		\n					\n		\n				\n						\n					\n			\n							\n		\n					\n		\n				\n						\n					\n			\n						\n				\n					\n	\n		\n\n	\n	Add to calendar	\n		\n	\n\n		\n			\n									\n	Google Calendar\n\n									\n	iCalendar\n\n									\n	Outlook 365\n\n									\n	Outlook Live\n\n							\n		\n\n		\n	\n\n				\n				\n					\n		\n					\n		\n				\n						\n					\n			\n						\n				\n					\n	\n		\n\n				NYSRS Board Meeting Summer 2026	\n\n\n		\n	\n		NYSRS All Members Meeting Fall 2026
URL:https://nysrs.org/event/nysrs-board-meeting-spring-2026-2/
CATEGORIES:Board Meeting,NYSRS
ATTACH;FMTTYPE=image/png:https://nysrs.org/wp-content/uploads/2024/10/NYSRS-Board-Meeting-1.png
END:VEVENT
BEGIN:VEVENT
DTSTART;TZID=America/New_York:20260115T080000
DTEND;TZID=America/New_York:20260115T120000
DTSTAMP:20260423T115702
CREATED:20251222T151045Z
LAST-MODIFIED:20251222T151045Z
UID:8372-1768464000-1768478400@nysrs.org
SUMMARY:NYSRS Board Meeting Winter 2026
DESCRIPTION:« All Events\n 				\n				\n				\n				\n					\n	NYSRS Board Meeting Fall 2026				\n				\n				\n				\n					\n		\n			October 16\, 2026\n\n	\n\n	 @ \n\n\n5:00 pm\n\n		\n\n\n\n	\n	 - \n\n9:00 pm\n\n\n\n	\n				\n				\n				\n				\n					\n	\n				\n				\n				\n						\n					\n			\n						\n				\n					\n	\n\n	Categories:	\n		Board Meeting\, NYSRS	\n\n				\n				\n					\n		\n				\n			\n						\n				\n					\n	\n	NYSRS\n	\n	View Organizer Website \n\n\n\n				\n				\n					\n		\n					\n		\n				\n						\n					\n			\n							\n		\n					\n		\n				\n						\n					\n			\n						\n				\n					\n	\n		\n\n	\n	Add to calendar	\n		\n	\n\n		\n			\n									\n	Google Calendar\n\n									\n	iCalendar\n\n									\n	Outlook 365\n\n									\n	Outlook Live\n\n							\n		\n\n		\n	\n\n				\n				\n					\n		\n					\n		\n				\n						\n					\n			\n						\n				\n					\n	\n		\n\n				NYSRS Board Meeting Summer 2026	\n\n\n		\n	\n		NYSRS All Members Meeting Fall 2026
URL:https://nysrs.org/event/nysrs-board-meeting-winter-2026/
CATEGORIES:Board Meeting,NYSRS
ATTACH;FMTTYPE=image/png:https://nysrs.org/wp-content/uploads/2024/10/NYSRS-Board-Meeting-1.png
END:VEVENT
BEGIN:VEVENT
DTSTART;TZID=America/New_York:20251017T170000
DTEND;TZID=America/New_York:20251017T170000
DTSTAMP:20260423T115702
CREATED:20241025T133519Z
LAST-MODIFIED:20241109T011313Z
UID:6031-1760720400-1760720400@nysrs.org
SUMMARY:NYSRS Board Meeting Fall 2025
DESCRIPTION:« All Events\n 				\n				\n				\n				\n					\n	NYSRS Board Meeting Fall 2026				\n				\n				\n				\n					\n		\n			October 16\, 2026\n\n	\n\n	 @ \n\n\n5:00 pm\n\n		\n\n\n\n	\n	 - \n\n9:00 pm\n\n\n\n	\n				\n				\n				\n				\n					\n	\n				\n				\n				\n						\n					\n			\n						\n				\n					\n	\n\n	Categories:	\n		Board Meeting\, NYSRS	\n\n				\n				\n					\n		\n				\n			\n						\n				\n					\n	\n	NYSRS\n	\n	View Organizer Website \n\n\n\n				\n				\n					\n		\n					\n		\n				\n						\n					\n			\n							\n		\n					\n		\n				\n						\n					\n			\n						\n				\n					\n	\n		\n\n	\n	Add to calendar	\n		\n	\n\n		\n			\n									\n	Google Calendar\n\n									\n	iCalendar\n\n									\n	Outlook 365\n\n									\n	Outlook Live\n\n							\n		\n\n		\n	\n\n				\n				\n					\n		\n					\n		\n				\n						\n					\n			\n						\n				\n					\n	\n		\n\n				NYSRS Board Meeting Summer 2026	\n\n\n		\n	\n		NYSRS All Members Meeting Fall 2026
URL:https://nysrs.org/event/nysrs-board-meeting-fall-2025/
CATEGORIES:Board Meeting,NYSRS
ATTACH;FMTTYPE=image/png:https://nysrs.org/wp-content/uploads/2024/10/NYSRS-Board-Meeting-1.png
END:VEVENT
BEGIN:VEVENT
DTSTART;TZID=America/New_York:20250724T080000
DTEND;TZID=America/New_York:20250724T080000
DTSTAMP:20260423T115702
CREATED:20241025T133419Z
LAST-MODIFIED:20241109T011341Z
UID:6030-1753344000-1753344000@nysrs.org
SUMMARY:NYSRS Board Meeting Summer 2025
DESCRIPTION:« All Events\n 				\n				\n				\n				\n					\n	NYSRS Board Meeting Fall 2026				\n				\n				\n				\n					\n		\n			October 16\, 2026\n\n	\n\n	 @ \n\n\n5:00 pm\n\n		\n\n\n\n	\n	 - \n\n9:00 pm\n\n\n\n	\n				\n				\n				\n				\n					\n	\n				\n				\n				\n						\n					\n			\n						\n				\n					\n	\n\n	Categories:	\n		Board Meeting\, NYSRS	\n\n				\n				\n					\n		\n				\n			\n						\n				\n					\n	\n	NYSRS\n	\n	View Organizer Website \n\n\n\n				\n				\n					\n		\n					\n		\n				\n						\n					\n			\n							\n		\n					\n		\n				\n						\n					\n			\n						\n				\n					\n	\n		\n\n	\n	Add to calendar	\n		\n	\n\n		\n			\n									\n	Google Calendar\n\n									\n	iCalendar\n\n									\n	Outlook 365\n\n									\n	Outlook Live\n\n							\n		\n\n		\n	\n\n				\n				\n					\n		\n					\n		\n				\n						\n					\n			\n						\n				\n					\n	\n		\n\n				NYSRS Board Meeting Summer 2026	\n\n\n		\n	\n		NYSRS All Members Meeting Fall 2026
URL:https://nysrs.org/event/nysrs-board-meeting-summer-2025/
CATEGORIES:Board Meeting,NYSRS
ATTACH;FMTTYPE=image/png:https://nysrs.org/wp-content/uploads/2024/10/NYSRS-Board-Meeting-1.png
END:VEVENT
BEGIN:VEVENT
DTSTART;TZID=America/New_York:20250328T170000
DTEND;TZID=America/New_York:20250328T170000
DTSTAMP:20260423T115702
CREATED:20241025T133259Z
LAST-MODIFIED:20241109T011443Z
UID:6027-1743181200-1743181200@nysrs.org
SUMMARY:NYSRS Board Meeting Spring 2025
DESCRIPTION:« All Events\n 				\n				\n				\n				\n					\n	NYSRS Board Meeting Fall 2026				\n				\n				\n				\n					\n		\n			October 16\, 2026\n\n	\n\n	 @ \n\n\n5:00 pm\n\n		\n\n\n\n	\n	 - \n\n9:00 pm\n\n\n\n	\n				\n				\n				\n				\n					\n	\n				\n				\n				\n						\n					\n			\n						\n				\n					\n	\n\n	Categories:	\n		Board Meeting\, NYSRS	\n\n				\n				\n					\n		\n				\n			\n						\n				\n					\n	\n	NYSRS\n	\n	View Organizer Website \n\n\n\n				\n				\n					\n		\n					\n		\n				\n						\n					\n			\n							\n		\n					\n		\n				\n						\n					\n			\n						\n				\n					\n	\n		\n\n	\n	Add to calendar	\n		\n	\n\n		\n			\n									\n	Google Calendar\n\n									\n	iCalendar\n\n									\n	Outlook 365\n\n									\n	Outlook Live\n\n							\n		\n\n		\n	\n\n				\n				\n					\n		\n					\n		\n				\n						\n					\n			\n						\n				\n					\n	\n		\n\n				NYSRS Board Meeting Summer 2026	\n\n\n		\n	\n		NYSRS All Members Meeting Fall 2026
URL:https://nysrs.org/event/nysrs-board-meeting-spring-2025/
CATEGORIES:Board Meeting,NYSRS
ATTACH;FMTTYPE=image/png:https://nysrs.org/wp-content/uploads/2024/10/NYSRS-Board-Meeting-1.png
END:VEVENT
BEGIN:VEVENT
DTSTART;TZID=America/New_York:20250109T080000
DTEND;TZID=America/New_York:20250109T080000
DTSTAMP:20260423T115702
CREATED:20241025T131503Z
LAST-MODIFIED:20241109T011510Z
UID:6015-1736409600-1736409600@nysrs.org
SUMMARY:NYSRS Board Meeting Winter 2025
DESCRIPTION:« All Events\n 				\n				\n				\n				\n					\n	NYSRS Board Meeting Fall 2026				\n				\n				\n				\n					\n		\n			October 16\, 2026\n\n	\n\n	 @ \n\n\n5:00 pm\n\n		\n\n\n\n	\n	 - \n\n9:00 pm\n\n\n\n	\n				\n				\n				\n				\n					\n	\n				\n				\n				\n						\n					\n			\n						\n				\n					\n	\n\n	Categories:	\n		Board Meeting\, NYSRS	\n\n				\n				\n					\n		\n				\n			\n						\n				\n					\n	\n	NYSRS\n	\n	View Organizer Website \n\n\n\n				\n				\n					\n		\n					\n		\n				\n						\n					\n			\n							\n		\n					\n		\n				\n						\n					\n			\n						\n				\n					\n	\n		\n\n	\n	Add to calendar	\n		\n	\n\n		\n			\n									\n	Google Calendar\n\n									\n	iCalendar\n\n									\n	Outlook 365\n\n									\n	Outlook Live\n\n							\n		\n\n		\n	\n\n				\n				\n					\n		\n					\n		\n				\n						\n					\n			\n						\n				\n					\n	\n		\n\n				NYSRS Board Meeting Summer 2026	\n\n\n		\n	\n		NYSRS All Members Meeting Fall 2026
URL:https://nysrs.org/event/nysrs-board-meeting-9/
CATEGORIES:Board Meeting,NYSRS
ATTACH;FMTTYPE=image/png:https://nysrs.org/wp-content/uploads/2024/10/NYSRS-Board-Meeting-1.png
END:VEVENT
BEGIN:VEVENT
DTSTART;TZID=America/New_York:20241018T170000
DTEND;TZID=America/New_York:20241018T210000
DTSTAMP:20260423T115702
CREATED:20231014T104137Z
LAST-MODIFIED:20240118T194550Z
UID:4831-1729270800-1729285200@nysrs.org
SUMMARY:NYSRS Board Meeting
DESCRIPTION:« All Events\n 				\n				\n				\n				\n					\n	NYSRS Board Meeting Fall 2026				\n				\n				\n				\n					\n		\n			October 16\, 2026\n\n	\n\n	 @ \n\n\n5:00 pm\n\n		\n\n\n\n	\n	 - \n\n9:00 pm\n\n\n\n	\n				\n				\n				\n				\n					\n	\n				\n				\n				\n						\n					\n			\n						\n				\n					\n	\n\n	Categories:	\n		Board Meeting\, NYSRS	\n\n				\n				\n					\n		\n				\n			\n						\n				\n					\n	\n	NYSRS\n	\n	View Organizer Website \n\n\n\n				\n				\n					\n		\n					\n		\n				\n						\n					\n			\n							\n		\n					\n		\n				\n						\n					\n			\n						\n				\n					\n	\n		\n\n	\n	Add to calendar	\n		\n	\n\n		\n			\n									\n	Google Calendar\n\n									\n	iCalendar\n\n									\n	Outlook 365\n\n									\n	Outlook Live\n\n							\n		\n\n		\n	\n\n				\n				\n					\n		\n					\n		\n				\n						\n					\n			\n						\n				\n					\n	\n		\n\n				NYSRS Board Meeting Summer 2026	\n\n\n		\n	\n		NYSRS All Members Meeting Fall 2026
URL:https://nysrs.org/event/nysrs-board-meeting-8/
LOCATION:Nixon Peabody LLP\, 55 West 46th Street\, Tower 46\, New York\, NY\, 10036\, United States
CATEGORIES:Board Meeting
ATTACH;FMTTYPE=image/png:https://nysrs.org/wp-content/uploads/2023/10/Board-Meeting-Featured-Image.png
END:VEVENT
BEGIN:VEVENT
DTSTART;TZID=America/New_York:20240726T090000
DTEND;TZID=America/New_York:20240726T120000
DTSTAMP:20260423T115703
CREATED:20231014T104040Z
LAST-MODIFIED:20240118T194653Z
UID:4829-1721984400-1721995200@nysrs.org
SUMMARY:NYSRS Board Meeting
DESCRIPTION:« All Events\n 				\n				\n				\n				\n					\n	NYSRS Board Meeting Fall 2026				\n				\n				\n				\n					\n		\n			October 16\, 2026\n\n	\n\n	 @ \n\n\n5:00 pm\n\n		\n\n\n\n	\n	 - \n\n9:00 pm\n\n\n\n	\n				\n				\n				\n				\n					\n	\n				\n				\n				\n						\n					\n			\n						\n				\n					\n	\n\n	Categories:	\n		Board Meeting\, NYSRS	\n\n				\n				\n					\n		\n				\n			\n						\n				\n					\n	\n	NYSRS\n	\n	View Organizer Website \n\n\n\n				\n				\n					\n		\n					\n		\n				\n						\n					\n			\n							\n		\n					\n		\n				\n						\n					\n			\n						\n				\n					\n	\n		\n\n	\n	Add to calendar	\n		\n	\n\n		\n			\n									\n	Google Calendar\n\n									\n	iCalendar\n\n									\n	Outlook 365\n\n									\n	Outlook Live\n\n							\n		\n\n		\n	\n\n				\n				\n					\n		\n					\n		\n				\n						\n					\n			\n						\n				\n					\n	\n		\n\n				NYSRS Board Meeting Summer 2026	\n\n\n		\n	\n		NYSRS All Members Meeting Fall 2026
URL:https://nysrs.org/event/nysrs-board-meeting-7/
LOCATION:Nixon Peabody LLP\, 55 West 46th Street\, Tower 46\, New York\, NY\, 10036\, United States
CATEGORIES:Board Meeting
ATTACH;FMTTYPE=image/png:https://nysrs.org/wp-content/uploads/2023/10/Board-Meeting-Featured-Image.png
END:VEVENT
BEGIN:VEVENT
DTSTART;TZID=America/New_York:20240105T090000
DTEND;TZID=America/New_York:20240105T120000
DTSTAMP:20260423T115703
CREATED:20231014T103706Z
LAST-MODIFIED:20231014T104511Z
UID:4824-1704445200-1704456000@nysrs.org
SUMMARY:NYSRS Board Meeting
DESCRIPTION:« All Events\n 				\n				\n				\n				\n					\n	NYSRS Board Meeting Fall 2026				\n				\n				\n				\n					\n		\n			October 16\, 2026\n\n	\n\n	 @ \n\n\n5:00 pm\n\n		\n\n\n\n	\n	 - \n\n9:00 pm\n\n\n\n	\n				\n				\n				\n				\n					\n	\n				\n				\n				\n						\n					\n			\n						\n				\n					\n	\n\n	Categories:	\n		Board Meeting\, NYSRS	\n\n				\n				\n					\n		\n				\n			\n						\n				\n					\n	\n	NYSRS\n	\n	View Organizer Website \n\n\n\n				\n				\n					\n		\n					\n		\n				\n						\n					\n			\n							\n		\n					\n		\n				\n						\n					\n			\n						\n				\n					\n	\n		\n\n	\n	Add to calendar	\n		\n	\n\n		\n			\n									\n	Google Calendar\n\n									\n	iCalendar\n\n									\n	Outlook 365\n\n									\n	Outlook Live\n\n							\n		\n\n		\n	\n\n				\n				\n					\n		\n					\n		\n				\n						\n					\n			\n						\n				\n					\n	\n		\n\n				NYSRS Board Meeting Summer 2026	\n\n\n		\n	\n		NYSRS All Members Meeting Fall 2026
URL:https://nysrs.org/event/nysrs-board-meeting-5/
LOCATION:Nixon Peabody LLP\, 55 West 46th Street\, Tower 46\, New York\, NY\, 10036\, United States
CATEGORIES:Board Meeting
ATTACH;FMTTYPE=image/png:https://nysrs.org/wp-content/uploads/2023/01/Board-Meeting-Image.png
END:VEVENT
BEGIN:VEVENT
DTSTART;TZID=America/New_York:20231013T170000
DTEND;TZID=America/New_York:20231013T210000
DTSTAMP:20260423T115703
CREATED:20230111T132746Z
LAST-MODIFIED:20230709T121856Z
UID:3073-1697216400-1697230800@nysrs.org
SUMMARY:NYSRS Board Meeting
DESCRIPTION:« All Events\n 				\n				\n				\n				\n					\n	NYSRS Board Meeting Fall 2026				\n				\n				\n				\n					\n		\n			October 16\, 2026\n\n	\n\n	 @ \n\n\n5:00 pm\n\n		\n\n\n\n	\n	 - \n\n9:00 pm\n\n\n\n	\n				\n				\n				\n				\n					\n	\n				\n				\n				\n						\n					\n			\n						\n				\n					\n	\n\n	Categories:	\n		Board Meeting\, NYSRS	\n\n				\n				\n					\n		\n				\n			\n						\n				\n					\n	\n	NYSRS\n	\n	View Organizer Website \n\n\n\n				\n				\n					\n		\n					\n		\n				\n						\n					\n			\n							\n		\n					\n		\n				\n						\n					\n			\n						\n				\n					\n	\n		\n\n	\n	Add to calendar	\n		\n	\n\n		\n			\n									\n	Google Calendar\n\n									\n	iCalendar\n\n									\n	Outlook 365\n\n									\n	Outlook Live\n\n							\n		\n\n		\n	\n\n				\n				\n					\n		\n					\n		\n				\n						\n					\n			\n						\n				\n					\n	\n		\n\n				NYSRS Board Meeting Summer 2026	\n\n\n		\n	\n		NYSRS All Members Meeting Fall 2026
URL:https://nysrs.org/event/nysrs-board-meeting-4/
CATEGORIES:Board Meeting,NYSRS
END:VEVENT
BEGIN:VEVENT
DTSTART;TZID=America/New_York:20230811T090000
DTEND;TZID=America/New_York:20230811T120000
DTSTAMP:20260423T115703
CREATED:20230111T132700Z
LAST-MODIFIED:20230709T121847Z
UID:3071-1691744400-1691755200@nysrs.org
SUMMARY:NYSRS Board Meeting
DESCRIPTION:« All Events\n 				\n				\n				\n				\n					\n	NYSRS Board Meeting Fall 2026				\n				\n				\n				\n					\n		\n			October 16\, 2026\n\n	\n\n	 @ \n\n\n5:00 pm\n\n		\n\n\n\n	\n	 - \n\n9:00 pm\n\n\n\n	\n				\n				\n				\n				\n					\n	\n				\n				\n				\n						\n					\n			\n						\n				\n					\n	\n\n	Categories:	\n		Board Meeting\, NYSRS	\n\n				\n				\n					\n		\n				\n			\n						\n				\n					\n	\n	NYSRS\n	\n	View Organizer Website \n\n\n\n				\n				\n					\n		\n					\n		\n				\n						\n					\n			\n							\n		\n					\n		\n				\n						\n					\n			\n						\n				\n					\n	\n		\n\n	\n	Add to calendar	\n		\n	\n\n		\n			\n									\n	Google Calendar\n\n									\n	iCalendar\n\n									\n	Outlook 365\n\n									\n	Outlook Live\n\n							\n		\n\n		\n	\n\n				\n				\n					\n		\n					\n		\n				\n						\n					\n			\n						\n				\n					\n	\n		\n\n				NYSRS Board Meeting Summer 2026	\n\n\n		\n	\n		NYSRS All Members Meeting Fall 2026
URL:https://nysrs.org/event/nysrs-board-meeting-3/
CATEGORIES:Board Meeting,NYSRS
END:VEVENT
END:VCALENDAR