BEGIN:VCALENDAR
VERSION:2.0
PRODID:-//New York State Radiological Society - ECPv6.15.20//NONSGML v1.0//EN
CALSCALE:GREGORIAN
METHOD:PUBLISH
X-ORIGINAL-URL:https://nysrs.org
X-WR-CALDESC:Events for New York State Radiological Society
REFRESH-INTERVAL;VALUE=DURATION:PT1H
X-Robots-Tag:noindex
X-PUBLISHED-TTL:PT1H
BEGIN:VTIMEZONE
TZID:America/New_York
BEGIN:DAYLIGHT
TZOFFSETFROM:-0500
TZOFFSETTO:-0400
TZNAME:EDT
DTSTART:20230312T070000
END:DAYLIGHT
BEGIN:STANDARD
TZOFFSETFROM:-0400
TZOFFSETTO:-0500
TZNAME:EST
DTSTART:20231105T060000
END:STANDARD
BEGIN:DAYLIGHT
TZOFFSETFROM:-0500
TZOFFSETTO:-0400
TZNAME:EDT
DTSTART:20240310T070000
END:DAYLIGHT
BEGIN:STANDARD
TZOFFSETFROM:-0400
TZOFFSETTO:-0500
TZNAME:EST
DTSTART:20241103T060000
END:STANDARD
BEGIN:DAYLIGHT
TZOFFSETFROM:-0500
TZOFFSETTO:-0400
TZNAME:EDT
DTSTART:20250309T070000
END:DAYLIGHT
BEGIN:STANDARD
TZOFFSETFROM:-0400
TZOFFSETTO:-0500
TZNAME:EST
DTSTART:20251102T060000
END:STANDARD
BEGIN:DAYLIGHT
TZOFFSETFROM:-0500
TZOFFSETTO:-0400
TZNAME:EDT
DTSTART:20260308T070000
END:DAYLIGHT
BEGIN:STANDARD
TZOFFSETFROM:-0400
TZOFFSETTO:-0500
TZNAME:EST
DTSTART:20261101T060000
END:STANDARD
END:VTIMEZONE
BEGIN:VEVENT
DTSTART;TZID=America/New_York:20250602T180000
DTEND;TZID=America/New_York:20250602T190000
DTSTAMP:20260423T131137
CREATED:20250503T220006Z
LAST-MODIFIED:20250517T200929Z
UID:7577-1748887200-1748890800@nysrs.org
SUMMARY:Generative & Agentic AI: The Next Frontier of AI in Radiology Webinar
DESCRIPTION:« All Events\n 				\n				\n				\n				\n					This event has passed. \n				\n				\n				\n				\n					\n	Generative & Agentic AI: The Next Frontier of AI in Radiology Webinar				\n				\n				\n				\n					\n		\n			June 2\, 2025\n\n	\n\n	 @ \n\n\n6:00 pm\n\n		\n\n\n\n	\n	 - \n\n7:00 pm\n\n\n\n	\n				\n				\n				\n				\n					\n	\n				\n				\n				\n						\n					\n			\n						\n				\n					\n	\n\n	Categories:	\n		NYSRS\, Quality & Safety	\n\n				\n				\n				\n				\n					\n	\n	Website:	\n	https://zoom.us/meeting/register/3fd1irSuQfmti2i28n5qnA\n\n				\n				\n					\n		\n				\n			\n						\n				\n					\n	\n	NYSRS Quality and Safety Committee\n	\n	\n\n	Website: \n\n\n\n				\n				\n					\n		\n					\n		\n				\n						\n					\n			\n							\n		\n					\n		\n				\n						\n					\n			\n						\n				\n					\n	\n		\n\n	\n	Add to calendar	\n		\n	\n\n		\n			\n									\n	Google Calendar\n\n									\n	iCalendar\n\n									\n	Outlook 365\n\n									\n	Outlook Live\n\n							\n		\n\n		\n	\n\n				\n				\n					\n		\n					\n		\n				\n						\n					\n			\n						\n				\n					\n	\n		\n\n				NYSRS All Members Meeting Spring 2025	\n\n\n		\n	\n		NYSRS Board Meeting Summer 2025
URL:https://nysrs.org/event/generative-agentic-ai-the-next-frontier-of-ai-in-radiology-webinar/
CATEGORIES:NYSRS,Quality & Safety
ATTACH;FMTTYPE=image/png:https://nysrs.org/wp-content/uploads/2025/05/Generative-Agentic-AI-The-Next-Frontier-of-AI-in-Radiology-4-1.png
END:VEVENT
BEGIN:VEVENT
DTSTART;TZID=America/New_York:20240208T173000
DTEND;TZID=America/New_York:20240208T183000
DTSTAMP:20260423T131137
CREATED:20240118T104559Z
LAST-MODIFIED:20240118T105755Z
UID:5482-1707413400-1707417000@nysrs.org
SUMMARY:The Intersection of AI and Quality & Safety
DESCRIPTION:« All Events\n 				\n				\n				\n				\n					This event has passed. \n				\n				\n				\n				\n					\n	Generative & Agentic AI: The Next Frontier of AI in Radiology Webinar				\n				\n				\n				\n					\n		\n			June 2\, 2025\n\n	\n\n	 @ \n\n\n6:00 pm\n\n		\n\n\n\n	\n	 - \n\n7:00 pm\n\n\n\n	\n				\n				\n				\n				\n					\n	\n				\n				\n				\n						\n					\n			\n						\n				\n					\n	\n\n	Categories:	\n		NYSRS\, Quality & Safety	\n\n				\n				\n				\n				\n					\n	\n	Website:	\n	https://zoom.us/meeting/register/3fd1irSuQfmti2i28n5qnA\n\n				\n				\n					\n		\n				\n			\n						\n				\n					\n	\n	NYSRS Quality and Safety Committee\n	\n	 \n\n\n\n				\n				\n					\n		\n					\n		\n				\n						\n					\n			\n							\n		\n					\n		\n				\n						\n					\n			\n						\n				\n					\n	\n		\n\n	\n	Add to calendar	\n		\n	\n\n		\n			\n									\n	Google Calendar\n\n									\n	iCalendar\n\n									\n	Outlook 365\n\n									\n	Outlook Live\n\n							\n		\n\n		\n	\n\n				\n				\n					\n		\n					\n		\n				\n						\n					\n			\n						\n				\n					\n	\n		\n\n				NYSRS All Members Meeting Spring 2025	\n\n\n		\n	\n		NYSRS Board Meeting Summer 2025
URL:https://nysrs.org/event/the-intersection-of-ai-and-quality-safety/
CATEGORIES:Quality & Safety
ATTACH;FMTTYPE=image/png:https://nysrs.org/wp-content/uploads/2024/01/The-Intersection-of-AI-and-Q-S.png
END:VEVENT
END:VCALENDAR