BEGIN:VCALENDAR
VERSION:2.0
PRODID:-//New York State Radiological Society - ECPv6.15.20//NONSGML v1.0//EN
CALSCALE:GREGORIAN
METHOD:PUBLISH
X-WR-CALNAME:New York State Radiological Society
X-ORIGINAL-URL:https://nysrs.org
X-WR-CALDESC:Events for New York State Radiological Society
REFRESH-INTERVAL;VALUE=DURATION:PT1H
X-Robots-Tag:noindex
X-PUBLISHED-TTL:PT1H
BEGIN:VTIMEZONE
TZID:America/New_York
BEGIN:DAYLIGHT
TZOFFSETFROM:-0500
TZOFFSETTO:-0400
TZNAME:EDT
DTSTART:20220313T070000
END:DAYLIGHT
BEGIN:STANDARD
TZOFFSETFROM:-0400
TZOFFSETTO:-0500
TZNAME:EST
DTSTART:20221106T060000
END:STANDARD
BEGIN:DAYLIGHT
TZOFFSETFROM:-0500
TZOFFSETTO:-0400
TZNAME:EDT
DTSTART:20230312T070000
END:DAYLIGHT
BEGIN:STANDARD
TZOFFSETFROM:-0400
TZOFFSETTO:-0500
TZNAME:EST
DTSTART:20231105T060000
END:STANDARD
BEGIN:DAYLIGHT
TZOFFSETFROM:-0500
TZOFFSETTO:-0400
TZNAME:EDT
DTSTART:20240310T070000
END:DAYLIGHT
BEGIN:STANDARD
TZOFFSETFROM:-0400
TZOFFSETTO:-0500
TZNAME:EST
DTSTART:20241103T060000
END:STANDARD
BEGIN:DAYLIGHT
TZOFFSETFROM:-0500
TZOFFSETTO:-0400
TZNAME:EDT
DTSTART:20250309T070000
END:DAYLIGHT
BEGIN:STANDARD
TZOFFSETFROM:-0400
TZOFFSETTO:-0500
TZNAME:EST
DTSTART:20251102T060000
END:STANDARD
BEGIN:DAYLIGHT
TZOFFSETFROM:-0500
TZOFFSETTO:-0400
TZNAME:EDT
DTSTART:20260308T070000
END:DAYLIGHT
BEGIN:STANDARD
TZOFFSETFROM:-0400
TZOFFSETTO:-0500
TZNAME:EST
DTSTART:20261101T060000
END:STANDARD
END:VTIMEZONE
BEGIN:VEVENT
DTSTART;TZID=America/New_York:20250724T080000
DTEND;TZID=America/New_York:20250724T080000
DTSTAMP:20260423T202644
CREATED:20241025T133419Z
LAST-MODIFIED:20241109T011341Z
UID:6030-1753344000-1753344000@nysrs.org
SUMMARY:NYSRS Board Meeting Summer 2025
DESCRIPTION:« All Events\n \n\n	NYSRS Board Meeting Summer 2025\n\n			July 24\, 2025\n	 @\n8:00 am\n			\n	 \n\n	Categories:\n		Board Meeting\, NYSRS	 \n\n	NYSRS\nView Organizer Website \n\n	\n	Add to calendar	\n		\n	\n \n\n\n	Google Calendar\n\n\n	iCalendar\n\n\n	Outlook 365\n\n\n	Outlook Live\n\n\n\n\n\n\n				NYSRS All Members Meeting Spring 2025	\n\n\n	\n		NYSRS Board Meeting Fall 2025
URL:https://nysrs.org/event/nysrs-board-meeting-summer-2025/
CATEGORIES:Board Meeting,NYSRS
ATTACH;FMTTYPE=image/png:https://nysrs.org/wp-content/uploads/2024/10/NYSRS-Board-Meeting-1.png
END:VEVENT
BEGIN:VEVENT
DTSTART;TZID=America/New_York:20250602T180000
DTEND;TZID=America/New_York:20250602T190000
DTSTAMP:20260423T202644
CREATED:20250503T220006Z
LAST-MODIFIED:20250517T200929Z
UID:7577-1748887200-1748890800@nysrs.org
SUMMARY:Generative & Agentic AI: The Next Frontier of AI in Radiology Webinar
DESCRIPTION:« All Events \nNYSRS All Members Meeting Fall 2025\nOctober 18\, 2025\n@\n8:00 am\n–\n12:00 pm\n \nCategories:\nAll Members Meeting\, NYSRS \nNYSRS\nView Organizer Website \n\n\nAdd to calendar \n  \n\nGoogle Calendar\niCalendar\nOutlook 365\nOutlook Live\n\n\n\n\nNYSRS Board Meeting Fall 2025
URL:https://nysrs.org/event/generative-agentic-ai-the-next-frontier-of-ai-in-radiology-webinar/
CATEGORIES:NYSRS,Quality & Safety
ATTACH;FMTTYPE=image/png:https://nysrs.org/wp-content/uploads/2025/05/Generative-Agentic-AI-The-Next-Frontier-of-AI-in-Radiology-4-1.png
END:VEVENT
BEGIN:VEVENT
DTSTART;TZID=America/New_York:20250329T080000
DTEND;TZID=America/New_York:20250329T120000
DTSTAMP:20260423T202644
CREATED:20241025T134328Z
LAST-MODIFIED:20250301T003707Z
UID:6034-1743235200-1743249600@nysrs.org
SUMMARY:NYSRS All Members Meeting Spring 2025
DESCRIPTION:« All Events\n \n\n	NYSRS All Members Meeting Spring 2025\n\n			March 29\, 2025\n	 @\n8:00 am\n	 –\n12:00 pm\n	\n	 \n\n	Categories:\n		All Members Meeting\, NYSRS	 \n\n	NYSRS\nView Organizer Website \n\n	\n	Add to calendar	\n		\n	\n \n\n\n	Google Calendar\n\n\n	iCalendar\n\n\n	Outlook 365\n\n\n	Outlook Live\n\n\n\n\n\n\n				NYSRS Board Meeting Spring 2025	\n\n\n	\n		NYSRS Board Meeting Summer 2025			\n\n\n\nSaturday March 29th\, 2025 at 8:00 am\nIn-person and Virtual\nState of Affairs: Radiology 2025\nPresentations\n“The U.S. Radiologist Workforce; What the Past and Present Teaches us about the Future”\nAnna Rozenshtein\, MD\, MPH\, FACRProfessor of RadiologyNew York Medical College \n“Navigating the Crossroads: Transforming Challenges into Opportunities in Modern Radiology Practice”\nOlga R. Brook\, MDAssociate Professor of RadiologyHarvard Medical School \nDiscussion with Q & A\nOpen Mic Session\n“Landscape of Radiology 2025”\nModerator: Benjamin Hentel\, MD\, FACRHudson Valley Radiologists\, PCPresident\, NYSRS \nSession will be based on the results of this survery. Please fill out suvery if you have not already done so \nNYSRS Gold Medal of Achievement Ceremony\n﻿2025 Recipients\nJacqueline Bello\, MD\, FACRProfessor of RadiologyMontefiore Einstein \nMark Adams\, MD\, MBA FACRProfessor of Clinical Imaging Sciences University of Rochester Medical Center \nCommittee and Section Updates\n					\n									REGISTER\n					 \nCME Credits: 2.75\nThe meeting will be held at the Nixon Peabody LLP office located at:  \nTower 4655 West 46th Street\, 24th FloorNew York\, NY 10036-4120 \n			\n																\n															 \nPlease take the NYSRS Radiologist Survey. \nThe survey should only take a few minutes and is anonymous.The survey results will be used for our “Landscape of Radiology 2025” open mic session. Please submit responses by 3/22/2025. \n					\n									Take Survey\n					 \nThis activity has been planned and implemented in accordance with the accreditation requirements and policies of the Accreditation Council for Continuing Medical Education (ACCME) through the joint providership of The American College of Radiology and the New York State Radiological Society. The American College of Radiology is accredited by the ACCME to provide continuing medical education for physicians. \nThe American College of Radiology designates this live activity for a maximum of 2.75 AM A PRA Category 1 Credit(s)™. Physicians should claim only the credit commensurate with the extent of their participation in the activity. For information about the accreditation of this program\, please contact the ACR at info@acr.org.
URL:https://nysrs.org/event/nysrs-all-members-meeting-spring-2025/
CATEGORIES:All Members Meeting,NYSRS
ATTACH;FMTTYPE=image/png:https://nysrs.org/wp-content/uploads/2024/10/NYSRS-All-Member-Meeting-Spring-2025.png
END:VEVENT
BEGIN:VEVENT
DTSTART;TZID=America/New_York:20250328T170000
DTEND;TZID=America/New_York:20250328T170000
DTSTAMP:20260423T202644
CREATED:20241025T133259Z
LAST-MODIFIED:20241109T011443Z
UID:6027-1743181200-1743181200@nysrs.org
SUMMARY:NYSRS Board Meeting Spring 2025
DESCRIPTION:« All Events\n \n\n	NYSRS Board Meeting Spring 2025\n\n	Date & Time:\n\n			March 28\, 2025\n	 @\n5:00 pm\n			\n	 \n\n	Categories:\n		Board Meeting\, NYSRS	 \n\n	Organizer\n\n	NYSRS\nView Organizer Website \n\n	\n	Add to calendar	\n		\n	\n \n\n\n	Google Calendar\n\n\n	iCalendar\n\n\n	Outlook 365\n\n\n	Outlook Live\n\n\n\n\n\n\n				NYSRS Board Meeting Winter 2025	\n\n\n	\n		NYSRS All Members Meeting Spring 2025
URL:https://nysrs.org/event/nysrs-board-meeting-spring-2025/
CATEGORIES:Board Meeting,NYSRS
ATTACH;FMTTYPE=image/png:https://nysrs.org/wp-content/uploads/2024/10/NYSRS-Board-Meeting-1.png
END:VEVENT
BEGIN:VEVENT
DTSTART;TZID=America/New_York:20250109T080000
DTEND;TZID=America/New_York:20250109T080000
DTSTAMP:20260423T202644
CREATED:20241025T131503Z
LAST-MODIFIED:20241109T011510Z
UID:6015-1736409600-1736409600@nysrs.org
SUMMARY:NYSRS Board Meeting Winter 2025
DESCRIPTION:« All Events \nNYSRS Board Meeting Winter 2025\nDate & Time:\nJanuary 9\, 2025\n@\n8:00 am\n \nCategories:\nBoard Meeting\, NYSRS \nOrganizer\nNYSRS\nView Organizer Website \n\n\nAdd to calendar \n \n\nGoogle Calendar\niCalendar\nOutlook 365\nOutlook Live\n\n\n\n\n2024 Annual Dr. Sara Abramson Career Workshop \n\nNYSRS Board Meeting Spring 2025
URL:https://nysrs.org/event/nysrs-board-meeting-9/
CATEGORIES:Board Meeting,NYSRS
ATTACH;FMTTYPE=image/png:https://nysrs.org/wp-content/uploads/2024/10/NYSRS-Board-Meeting-1.png
END:VEVENT
BEGIN:VEVENT
DTSTART;TZID=America/New_York:20241219T170000
DTEND;TZID=America/New_York:20241219T180000
DTSTAMP:20260423T202644
CREATED:20241206T221718Z
LAST-MODIFIED:20241206T222450Z
UID:6494-1734627600-1734631200@nysrs.org
SUMMARY:Personal Finance Session
DESCRIPTION:« All Events\n \n\n	Personal Finance Session\n\n			December 19\, 2024\n	 @\n5:00 pm\n	 –\n6:00 pm\n	\n	\n					\n									JOIN ZOOM HERE\n					 \n\n	Categories:\n		NYSRS\, YPS	 \n\n	Website:\n	ZOOM LINK\n\n	\n	Add to calendar	\n		\n	\n \n\n\n	Google Calendar\n\n\n	iCalendar\n\n\n	Outlook 365\n\n\n	Outlook Live\n\n\n\n\n\n\n				Paid Family Leave: Redesigning the Radiology Workplace of the Future	\n\n\n	\n		NYSRS Board Meeting Winter 2025
URL:https://nysrs.org/event/personal-finance-session/
CATEGORIES:NYSRS,YPS
ATTACH;FMTTYPE=image/png:https://nysrs.org/wp-content/uploads/2024/12/YPS-Personal-Finance-Session.png
END:VEVENT
BEGIN:VEVENT
DTSTART;TZID=America/New_York:20241211T120000
DTEND;TZID=America/New_York:20241211T130000
DTSTAMP:20260423T202644
CREATED:20241129T170012Z
LAST-MODIFIED:20241130T215346Z
UID:6467-1733918400-1733922000@nysrs.org
SUMMARY:Paid Family Leave: Redesigning the Radiology Workplace of the Future
DESCRIPTION:« All Events \nPaid Family Leave: Redesigning the Radiology Workplace of the Future\nDecember 11\, 2025\n@\n12:00 pm\n–\n1:00 pm\n \nTo Registrants\, \nPlease complete the registration form below before joining the event. \nWebinar Registration Form \nThank you.\nJenny Bencardino\, MD\nVice-Chair\, Academic Affairs\nDepartment of Radiology\nMontefiore Medical Center \nCategories:\nNYSRS\n\n\nAdd to calendar \n  \n\nGoogle Calendar\niCalendar\nOutlook 365\nOutlook Live\n\n\n\n\nNYSRS All Members Meeting Fall 2025
URL:https://nysrs.org/event/paid-family-leave/
CATEGORIES:NYSRS
ATTACH;FMTTYPE=image/png:https://nysrs.org/wp-content/uploads/2024/11/Paid-Family-Leave-Redesigning-the-Radiology-Workplace-of-the-Future.png
END:VEVENT
BEGIN:VEVENT
DTSTART;TZID=America/New_York:20241105T180000
DTEND;TZID=America/New_York:20241105T200000
DTSTAMP:20260423T202644
CREATED:20241028T220056Z
LAST-MODIFIED:20241031T195933Z
UID:6258-1730829600-1730836800@nysrs.org
SUMMARY:2024 Annual Dr. Sara Abramson Career Workshop
DESCRIPTION:New York State Radiological Society Residents and Fellows Section Presents: \n2024 Annual Dr. Sara Abramson Career Workshop\nTuesday\, November 5th\, 6:00-8:00 PM \nVirtually on Zoom\nRegister here in advance for this FREE meeting:\nhttps://weillcornell.zoom.us/meeting/register/tJMrcuvoqDwgGNZAqecYlCzrtsxH2mlfprNb \n  \nNegotiating Your First Contract\nJustin Pfeiffer is a healthcare attorney in Nixon Peabody LLC’s Healthcare Group. \nRadiologist Panel Discussion\nA great panel of academic and private practice radiologists will discuss a range of topics of interest to radiology trainees\, including the radiology job market\, the hiring process\, and building a rewarding career.\nDr. Richard Friedland\, Hudson Valley Radiologists\nDr. Bonnie Litvack\, Northwell Health\nDr. Robert Rapoport\, Albany Advanced Imaging\nDr. David Siegel\, Northwell Health\nDr. Ellen Wolf\, Montefiore Medical Center \nQuestions for the attorney and panelists are welcomed in real time during the session or you may email them in advance to Esther Zusstone at esther.zusstone@nyulangone.org
URL:https://nysrs.org/event/2024-annual-dr-sara-abramson-career-workshop/
CATEGORIES:NYSRS,RFS
ATTACH;FMTTYPE=image/png:https://nysrs.org/wp-content/uploads/2024/11/2024-Annual-Dr.-Sara-Abramson-Career-Workshop.png
END:VEVENT
BEGIN:VEVENT
DTSTART;TZID=America/New_York:20241019T080000
DTEND;TZID=America/New_York:20241019T120000
DTSTAMP:20260423T202644
CREATED:20240919T120052Z
LAST-MODIFIED:20240929T234300Z
UID:5925-1729324800-1729339200@nysrs.org
SUMMARY:NYSRS Fall 2024 All Members Meeting
DESCRIPTION:« All Events\n \n\n	NYSRS Fall 2024 All Members Meeting\n			October 19\n	 @\n8:00 am\n	 –\n12:00 pm\n	 \n\n	Categories:\n		All Members Meeting\, NYRS	 \n\n	Website:\n	https://nysrs.org/2024-fall-all-members-meeting/ \n\n	NYSRS\n\n					\n						\n	 \nView Organizer Website \n\n					\n						\n	 \n\n	Nixon Peabody LLP\n\n55 West 46th Street\, Tower 46\n		\n		New York\,\n	NY\n	10036\n	United States\n\n\n	+ Google Map \n\n					\n						\n	 \n\n\n\n\n	\n	Add to calendar	\n		\n	\n \n\n\n	Google Calendar\n\n\n	iCalendar\n\n\n	Outlook 365\n\n\n	Outlook Live\n\n\n\n\n\n\n				NYSRS Board Meeting
URL:https://nysrs.org/event/nysrs-fall-2024-all-members-meeting/
LOCATION:Nixon Peabody LLP\, 55 West 46th Street\, Tower 46\, New York\, NY\, 10036\, United States
CATEGORIES:All Members Meeting,NYSRS
ATTACH;FMTTYPE=image/png:https://nysrs.org/wp-content/uploads/2024/09/AI-in-Radiology-1.png
END:VEVENT
BEGIN:VEVENT
DTSTART;TZID=America/New_York:20241018T170000
DTEND;TZID=America/New_York:20241018T210000
DTSTAMP:20260423T202644
CREATED:20231014T104137Z
LAST-MODIFIED:20240118T194550Z
UID:4831-1729270800-1729285200@nysrs.org
SUMMARY:NYSRS Board Meeting
DESCRIPTION:
URL:https://nysrs.org/event/nysrs-board-meeting-8/
LOCATION:Nixon Peabody LLP\, 55 West 46th Street\, Tower 46\, New York\, NY\, 10036\, United States
CATEGORIES:Board Meeting
ATTACH;FMTTYPE=image/png:https://nysrs.org/wp-content/uploads/2023/10/Board-Meeting-Featured-Image.png
END:VEVENT
BEGIN:VEVENT
DTSTART;VALUE=DATE:20240919
DTEND;VALUE=DATE:20240922
DTSTAMP:20260423T202644
CREATED:20240822T160611Z
LAST-MODIFIED:20240822T160611Z
UID:5879-1726704000-1726963199@nysrs.org
SUMMARY:ACR 2024 Quality and Safety + Informatics Conference
DESCRIPTION:
URL:https://nysrs.org/event/acr-2024-quality-and-safety-informatics-conference/
CATEGORIES:ACR
ATTACH;FMTTYPE=image/png:https://nysrs.org/wp-content/uploads/2023/10/Screenshot-2023-10-15-at-9.20.23 PM-1.png
END:VEVENT
BEGIN:VEVENT
DTSTART;TZID=America/New_York:20240726T090000
DTEND;TZID=America/New_York:20240726T120000
DTSTAMP:20260423T202644
CREATED:20231014T104040Z
LAST-MODIFIED:20240118T194653Z
UID:4829-1721984400-1721995200@nysrs.org
SUMMARY:NYSRS Board Meeting
DESCRIPTION:
URL:https://nysrs.org/event/nysrs-board-meeting-7/
LOCATION:Nixon Peabody LLP\, 55 West 46th Street\, Tower 46\, New York\, NY\, 10036\, United States
CATEGORIES:Board Meeting
ATTACH;FMTTYPE=image/png:https://nysrs.org/wp-content/uploads/2023/10/Board-Meeting-Featured-Image.png
END:VEVENT
BEGIN:VEVENT
DTSTART;TZID=America/New_York:20240323T080000
DTEND;TZID=America/New_York:20240323T120000
DTSTAMP:20260423T202644
CREATED:20231014T104409Z
LAST-MODIFIED:20240301T215909Z
UID:4833-1711180800-1711195200@nysrs.org
SUMMARY:NYSRS All Members Meeting
DESCRIPTION:The NYSRS will be holding our All Members Meeting on\nSaturday March 23\, 2024 at 8:00 am. \n\n\nETHICS IN RADIOLOGY\n“Ethical and Medicolegal Issues of AI”\nJonathan Mezrich\, MD\nAssociate Professor\, Dept. of Radiology and Biomedical Imaging\nYale School of Medicine \n“Ethical Issues in Radiology Reporting and Incidental Findings”\nStella Kang\, MD\nAssociate Professor of Radiology\nNYU Grossman School of Medicine \nDiscussion with Q & A\nFollowed by an Open Mic Session – “Prior Authorization Reform”\nModerator:\nAndrew Rosenkrantz\, MD\, FACR\nProfessor of Radiology\nNYU Grossman School of Medicine\nPresident NYSRS \nPanelists:\nKeith Hentel\, MD\, FACR\nPast President\, NYSRS\nExecutive Vice Chairman\, Dept. of Radiology\nWeill Cornell Medicine/New York-Presbyterian \nJustin Pfeiffer\, Esq.\nCounsel\, NYSRS\nCounsel\, Nixon Peabody LLP \nAwarding of NYSRS Gold Medal\nSociety and Practice Updates\nThe meeting will be held at the Nixon Peabody LLP office located at:\nTower 46\n55 West 46th Street\, 24th Floor\nNew York\, NY 10036-4120 \nYou may also join the meeting from your computer\, tablet or smartphone\, through the following link: \n\nZoom Link\n \nMeeting ID: 830 1901 3108\nPassword: wLZyHBqJ3N \nOne tap mobile (attendees only)\n+13092053325\,\,83019013108#\,\,1#\,5701608350# US\n+13126266799\,\,83019013108#\,\,1#\,5701608350# US (Chicago) \nPhysician Accreditation Statement \nThis activity has been planned and implemented in accordance with the accreditation requirements and policies of the Accreditation Council for Continuing Medical Education (ACCME) through the joint providership of The American College of Radiology and the New York State Radiological Society.  The American College of Radiology is accredited by the ACCME to provide continuing medical education for physicians. \nPhysician Credit Designation Statement \nThe American College of Radiology designates this live activity for a maximum of 2.50 AMA PRA Category 1 Credits™.  Physicians should claim only the credit commensurate with the extent of their participation in the activity.\nFor information about the accreditation of this program\, please contact the ACR at info@acr.org. \nNYS Radiologists PAC is a separate association closely affiliated with the NYSRS.  It collects voluntary contributions from physicians and distributes the money to support State political candidates. It is led by a committee of Society directors which works on a bi-partisan basis to find and support political candidates for State office. The purpose of the PAC is to promote and advance the practice of radiology and the delivery of high-quality care to patients.  Please demonstrate your commitment to our goals by making a donation. \nDonations may be made online at www.nysrs.org\nDonations by check should be written to NYS Radiologists PAC and mailed to Kelly Forster\, 9 Windy Hill\, Ballston Lake\, NY 12019
URL:https://nysrs.org/event/nysrs-all-members-meeting-3/
LOCATION:Nixon Peabody LLP\, 55 West 46th Street\, Tower 46\, New York\, NY\, 10036\, United States
CATEGORIES:All Members Meeting
ATTACH;FMTTYPE=image/jpeg:https://nysrs.org/wp-content/uploads/2024/02/7b133d892c5fc3c1e74385afe6d4fe99-1.jpg
END:VEVENT
BEGIN:VEVENT
DTSTART;TZID=America/New_York:20240322T170000
DTEND;TZID=America/New_York:20240322T210000
DTSTAMP:20260423T202644
CREATED:20231014T103908Z
LAST-MODIFIED:20240118T194451Z
UID:4827-1711126800-1711141200@nysrs.org
SUMMARY:NYSRS Board Meeting
DESCRIPTION:
URL:https://nysrs.org/event/nysrs-board-meeting-6/
LOCATION:Nixon Peabody LLP\, 55 West 46th Street\, Tower 46\, New York\, NY\, 10036\, United States
CATEGORIES:All Members Meeting
ATTACH;FMTTYPE=image/png:https://nysrs.org/wp-content/uploads/2023/10/Board-Meeting-Featured-Image.png
END:VEVENT
BEGIN:VEVENT
DTSTART;TZID=America/New_York:20240305T170000
DTEND;TZID=America/New_York:20240305T180000
DTSTAMP:20260423T202644
CREATED:20240301T215552Z
LAST-MODIFIED:20240301T215652Z
UID:5554-1709658000-1709661600@nysrs.org
SUMMARY:Radiology Advocacy: Why I Do It
DESCRIPTION:This upcoming Tuesday\, March 5th at 5 PM\, the New York State Radiological Society is hosting a virtual Young Professionals Section Career Fundamentals session “Radiology Advocacy: Why I Do It” with Alexander Podlaski\, MD. \n\n																							 \nAlex is an interventional radiologist at Newark Beth Israel Medical Center\, serves on the ACR Radiology Advocacy Network and RADPAC Board\, and is the recipient of the 2023 RAN Advocate of the Year award. He will be sharing valuable insights from his experiences with radiology advocacy and various ways to become involved. \nZoom Meeting ID: 933 2689 2447Zoom Passcode: 527968 \nJoin from a PC or smartphonehttps://nyulangone.zoom.us/j/93326892447?pwd=d2E2Z0FlYnhSWGZiSXBYNmJhdlV4UT09Time: Mar 5\, 2024 05:00 PM Eastern Time (US and Canada) \nTap to join from a mobile device (audio only)+16465189805\,\,93326892447#\,\,\,\,0#\,\,527968# US (New York)+12133388477\,\,93326892447#\,\,\,\,0#\,\,527968# US (Los Angeles)Password: 527968
URL:https://nysrs.org/event/radiology-advocacy/
CATEGORIES:YPS
ATTACH;FMTTYPE=image/png:https://nysrs.org/wp-content/uploads/2024/03/Radiology-Advocacy-Why-I-do-It.png
END:VEVENT
BEGIN:VEVENT
DTSTART;TZID=America/New_York:20240208T173000
DTEND;TZID=America/New_York:20240208T183000
DTSTAMP:20260423T202645
CREATED:20240118T104559Z
LAST-MODIFIED:20240118T105755Z
UID:5482-1707413400-1707417000@nysrs.org
SUMMARY:The Intersection of AI and Quality & Safety
DESCRIPTION:Inaugural NYSRS Quality& Saftey Committee Invited Lecture:\nThe Intersection of AI and Quality & Saftey \nWe are honored to have Nina Kottler\, MD\, MS as our speaker. \nPlease register here
URL:https://nysrs.org/event/the-intersection-of-ai-and-quality-safety/
CATEGORIES:Quality & Safety
ATTACH;FMTTYPE=image/png:https://nysrs.org/wp-content/uploads/2024/01/The-Intersection-of-AI-and-Q-S.png
END:VEVENT
BEGIN:VEVENT
DTSTART;TZID=America/New_York:20240105T090000
DTEND;TZID=America/New_York:20240105T120000
DTSTAMP:20260423T202645
CREATED:20231014T103706Z
LAST-MODIFIED:20231014T104511Z
UID:4824-1704445200-1704456000@nysrs.org
SUMMARY:NYSRS Board Meeting
DESCRIPTION:
URL:https://nysrs.org/event/nysrs-board-meeting-5/
LOCATION:Nixon Peabody LLP\, 55 West 46th Street\, Tower 46\, New York\, NY\, 10036\, United States
CATEGORIES:Board Meeting
ATTACH;FMTTYPE=image/png:https://nysrs.org/wp-content/uploads/2023/01/Board-Meeting-Image.png
END:VEVENT
BEGIN:VEVENT
DTSTART;TZID=America/New_York:20231107T180000
DTEND;TZID=America/New_York:20231107T200000
DTSTAMP:20260423T202645
CREATED:20231016T011728Z
LAST-MODIFIED:20241031T195959Z
UID:4869-1699380000-1699387200@nysrs.org
SUMMARY:2023 Annual Dr. Sara Abramson Career Workshop
DESCRIPTION:The NYSRS Resident and Fellow Section is thrilled to announce The Annual Dr. Sara Abramson Career Workshop will be held on Tuesday\, November 7th\, 2023\, from 6-8 PM! \n  \n\nThe event will begin with a discussion of contract negotiations with a healthcare attorney. Following this\, there will be a panel discussion with several prominent radiologists regarding the hiring process\, choosing a fellowship\, and general career advice. Please see the attached flyer for additional information and share this email with your co-residents and fellows!\n\n\nRegister here in advance for this FREE virtual event:\nhttps://weillcornell.zoom.us/meeting/register/tJIldu2qrTIvG9T3ge5lxE7fPFx-kR9JcO3F \n\n\nQuestions for the attorney and panelists are welcomed in real time during the session or you may email them to me at rom9246@nyp.org.
URL:https://nysrs.org/event/2023-annual-dr-sara-abramson-career-workshop/
CATEGORIES:NYSRS,RFS
ATTACH;FMTTYPE=image/jpeg:https://nysrs.org/wp-content/uploads/2023/10/2023v-Annual-Dr.-Sara-Abramson-Career-Workshop.jpeg
END:VEVENT
BEGIN:VEVENT
DTSTART;VALUE=DATE:20231024
DTEND;VALUE=DATE:20231027
DTSTAMP:20260423T202645
CREATED:20231014T012013Z
LAST-MODIFIED:20231016T012228Z
UID:4821-1698105600-1698364799@nysrs.org
SUMMARY:ACR 2023 Quality and Safety + Informatics Conference
DESCRIPTION:
URL:https://nysrs.org/event/acr-2023-quality-and-safety-informatics-conference/
LOCATION:Sheraton San Diego Hotel & Marina\, 1380 Harbor Island Drive\, San Diego\, CA\, 92101\, United States
CATEGORIES:ACR
ATTACH;FMTTYPE=image/png:https://nysrs.org/wp-content/uploads/2023/10/Screenshot-2023-10-15-at-9.20.23 PM-1.png
END:VEVENT
BEGIN:VEVENT
DTSTART;TZID=America/New_York:20231014T080000
DTEND;TZID=America/New_York:20231014T120000
DTSTAMP:20260423T202645
CREATED:20230111T132823Z
LAST-MODIFIED:20230709T121903Z
UID:3075-1697270400-1697284800@nysrs.org
SUMMARY:NYSRS All Members Meeting
DESCRIPTION:
URL:https://nysrs.org/event/nysrs-all-members-meeting-2/
CATEGORIES:All Members Meeting,NYSRS
END:VEVENT
BEGIN:VEVENT
DTSTART;TZID=America/New_York:20231013T170000
DTEND;TZID=America/New_York:20231013T210000
DTSTAMP:20260423T202645
CREATED:20230111T132746Z
LAST-MODIFIED:20230709T121856Z
UID:3073-1697216400-1697230800@nysrs.org
SUMMARY:NYSRS Board Meeting
DESCRIPTION:
URL:https://nysrs.org/event/nysrs-board-meeting-4/
CATEGORIES:Board Meeting,NYSRS
END:VEVENT
BEGIN:VEVENT
DTSTART;TZID=America/New_York:20230811T090000
DTEND;TZID=America/New_York:20230811T120000
DTSTAMP:20260423T202645
CREATED:20230111T132700Z
LAST-MODIFIED:20230709T121847Z
UID:3071-1691744400-1691755200@nysrs.org
SUMMARY:NYSRS Board Meeting
DESCRIPTION:
URL:https://nysrs.org/event/nysrs-board-meeting-3/
CATEGORIES:Board Meeting,NYSRS
END:VEVENT
BEGIN:VEVENT
DTSTART;VALUE=DATE:20230510
DTEND;VALUE=DATE:20230511
DTSTAMP:20260423T202645
CREATED:20230122T200041Z
LAST-MODIFIED:20230709T121819Z
UID:3135-1683676800-1683763199@nysrs.org
SUMMARY:In-Person ACR Hill Day
DESCRIPTION:​​​​SAVE THE DATE: In-Person ACR Hill Day Returns May 10​ \nJanuary 20\, 2023 \n  \nThe American College of Radiology® (ACR®) will hold its first in-person Capitol Hill Day since 2019. The May 10 event coincides with ACR 2023\, the College’s annual meeting. Hill Day presents an opportunity for radiologists to meet with their members of Congress and their staffs to discuss issues that affect radiologists and their ability to provide quality patient care. \n \nRegistration is now open for ACR 2023 and Capitol Hill Day. State chapter leaders note that Ted Burnes\, American College of Radiology Association® Senior Director of Political Affairs and RADPAC\, will reach out this month to identify key contacts for assistance in scheduling meetings between members and their legislators. \n \nTo learn more about ACR’s advocacy activities\, listen to the latest Radvocacy podcast hosted by RADPAC​ featuring the College’s government affairs staff. \n \nFor more information\, please contact Ted Burnes.
URL:https://nysrs.org/event/in-person-acr-hill-day/
CATEGORIES:ACR
END:VEVENT
BEGIN:VEVENT
DTSTART;VALUE=DATE:20230506
DTEND;VALUE=DATE:20230511
DTSTAMP:20260423T202645
CREATED:20230111T132910Z
LAST-MODIFIED:20230709T121913Z
UID:3077-1683331200-1683763199@nysrs.org
SUMMARY:ACR Annual Meeting
DESCRIPTION:
URL:https://nysrs.org/event/acr-annual-meeting-2/
CATEGORIES:ACR
END:VEVENT
BEGIN:VEVENT
DTSTART;VALUE=DATE:20230416
DTEND;VALUE=DATE:20230424
DTSTAMP:20260423T202645
CREATED:20230218T123322Z
LAST-MODIFIED:20230218T123322Z
UID:3308-1681603200-1682294399@nysrs.org
SUMMARY:New York State Roentgen Society: Core Exam Review Course
DESCRIPTION:
URL:https://nysrs.org/event/new-york-state-roentgen-society-core-exam-review-course/
END:VEVENT
BEGIN:VEVENT
DTSTART;TZID=America/New_York:20230401T080000
DTEND;TZID=America/New_York:20230401T120000
DTSTAMP:20260423T202645
CREATED:20230111T132622Z
LAST-MODIFIED:20230401T150504Z
UID:3069-1680336000-1680350400@nysrs.org
SUMMARY:NYSRS All Members Meeting
DESCRIPTION:The subject for the meeting presentation is: \n“From DEI to Health Equity: The Business Case and the Human Case” \nRuth Carlos\, MD\, MS\, FACR\nEditor-in-Chief\, JACR\nAssistant Chair for Clinical Research\nProfessor of Radiology\nUniversity of Michigan \nOpen Mic Session to follow \nKevin Beckford\nSenior Vice-President\nChief People Officer\nGRYT Heath \n\n\n\n\n\n\n\n\n\n\n\n\nThe meeting will be both virtual and in person.  \n  \nThe meeting will be held at the Nixon Peabody LLP office located at: \nTower 46\n55 West 46th Street\, 24th Floor\nNew York\, NY 10036-4120 \nYou may also join the meeting from your computer\, tablet or smartphone\, through the following link: \nJoin from the meeting link: MEETING LINK \nJoin by meeting number\nMeeting number (access code): 2346 141 9428\nMeeting password:  hMsTTCmK255 \n  \nTap to join from a mobile device (attendees only)\n+1-408-418-9388\,\,23461419428## United States Toll \n  \nJoin by phone\n+1-408-418-9388 United States Toll\nGlobal call-in numbers \nJoin from a video system or application\nDial 23461419428@nixonpeabody.webex.com \nYou can also dial 173.243.2.68 and enter your meeting number.
URL:https://nysrs.org/event/nysrs-all-members-meeting/
END:VEVENT
BEGIN:VEVENT
DTSTART;TZID=America/New_York:20230331T170000
DTEND;TZID=America/New_York:20230331T210000
DTSTAMP:20260423T202645
CREATED:20230111T132535Z
LAST-MODIFIED:20230111T140301Z
UID:3067-1680282000-1680296400@nysrs.org
SUMMARY:NYSRS Board Meeting
DESCRIPTION:
URL:https://nysrs.org/event/nysrs-board-meeting-2/
END:VEVENT
BEGIN:VEVENT
DTSTART;TZID=America/New_York:20230314T074500
DTEND;TZID=America/New_York:20230314T110000
DTSTAMP:20260423T202645
CREATED:20230121T001554Z
LAST-MODIFIED:20230121T001615Z
UID:3123-1678779900-1678791600@nysrs.org
SUMMARY:MSSNY Physician Advocacy Day
DESCRIPTION:MSSNY’s annual physician advocacy day \n 
URL:https://nysrs.org/event/mssny-physician-advocacy-day/
LOCATION:Empire State Plaza\, 100 S Mall Arterial\, Albany\, NY\, 12242\, United States
END:VEVENT
BEGIN:VEVENT
DTSTART;TZID=America/New_York:20230120T090000
DTEND;TZID=America/New_York:20230120T130000
DTSTAMP:20260423T202645
CREATED:20230111T132411Z
LAST-MODIFIED:20230111T140123Z
UID:3064-1674205200-1674219600@nysrs.org
SUMMARY:NYSRS Board Meeting
DESCRIPTION:
URL:https://nysrs.org/event/nysrs-board-meeting/
LOCATION:NYC
END:VEVENT
BEGIN:VEVENT
DTSTART;TZID=America/New_York:20230111T170000
DTEND;TZID=America/New_York:20230111T190000
DTSTAMP:20260423T202645
CREATED:20221226T111657Z
LAST-MODIFIED:20221226T115255Z
UID:3004-1673456400-1673463600@nysrs.org
SUMMARY:Hot Topic Session: ChatGPT - Potential Impacts on Patients\, Physicians\, & Practices
DESCRIPTION:Additional Details & Registration Information will Follow
URL:https://nysrs.org/event/hot-topic-session-chatgpt-potential-impacts-on-patients-physicians-practices/
END:VEVENT
END:VCALENDAR