BEGIN:VCALENDAR
VERSION:2.0
PRODID:-//New York State Radiological Society - ECPv6.15.20//NONSGML v1.0//EN
CALSCALE:GREGORIAN
METHOD:PUBLISH
X-ORIGINAL-URL:https://nysrs.org
X-WR-CALDESC:Events for New York State Radiological Society
REFRESH-INTERVAL;VALUE=DURATION:PT1H
X-Robots-Tag:noindex
X-PUBLISHED-TTL:PT1H
BEGIN:VTIMEZONE
TZID:America/New_York
BEGIN:DAYLIGHT
TZOFFSETFROM:-0500
TZOFFSETTO:-0400
TZNAME:EDT
DTSTART:20250309T070000
END:DAYLIGHT
BEGIN:STANDARD
TZOFFSETFROM:-0400
TZOFFSETTO:-0500
TZNAME:EST
DTSTART:20251102T060000
END:STANDARD
BEGIN:DAYLIGHT
TZOFFSETFROM:-0500
TZOFFSETTO:-0400
TZNAME:EDT
DTSTART:20260308T070000
END:DAYLIGHT
BEGIN:STANDARD
TZOFFSETFROM:-0400
TZOFFSETTO:-0500
TZNAME:EST
DTSTART:20261101T060000
END:STANDARD
BEGIN:DAYLIGHT
TZOFFSETFROM:-0500
TZOFFSETTO:-0400
TZNAME:EDT
DTSTART:20270314T070000
END:DAYLIGHT
BEGIN:STANDARD
TZOFFSETFROM:-0400
TZOFFSETTO:-0500
TZNAME:EST
DTSTART:20271107T060000
END:STANDARD
END:VTIMEZONE
BEGIN:VEVENT
DTSTART;TZID=America/New_York:20260321T080000
DTEND;TZID=America/New_York:20260321T120000
DTSTAMP:20260425T121146
CREATED:20251222T151637Z
LAST-MODIFIED:20251222T151643Z
UID:8385-1774080000-1774094400@nysrs.org
SUMMARY:NYSRS All Members Meeting Spring 2026
DESCRIPTION:« All Events\n 				\n				\n				\n				\n					This event has passed. \n				\n				\n				\n				\n					\n	NYSRS Board Meeting Spring 2025				\n				\n				\n				\n					\n	\n	Date & Time:	\n			March 28\, 2025\n\n	\n\n	 @ \n\n\n5:00 pm\n\n			\n				\n				\n				\n				\n					\n	\n				\n				\n				\n						\n					\n			\n						\n				\n					\n	\n\n	Categories:	\n		Board Meeting\, NYSRS	\n\n				\n				\n					\n		\n				\n			\n						\n				\n					\n	\n	Organizer\n	NYSRS\n	\n	\n\n	Website:View Organizer Website \n\n\n\n				\n				\n					\n		\n					\n		\n				\n						\n					\n			\n							\n		\n					\n		\n				\n						\n					\n			\n						\n				\n					\n	\n		\n\n	\n	Add to calendar	\n		\n	\n\n		\n			\n									\n	Google Calendar\n\n									\n	iCalendar\n\n									\n	Outlook 365\n\n									\n	Outlook Live\n\n							\n		\n\n		\n	\n\n				\n				\n					\n		\n					\n		\n				\n						\n					\n			\n						\n				\n					\n	\n		\n\n				NYSRS Board Meeting Winter 2025	\n\n\n		\n	\n		NYSRS All Members Meeting Spring 2025
URL:https://nysrs.org/event/nysrs-all-members-meeting-sping-2026/
CATEGORIES:All Members Meeting,NYSRS
ATTACH;FMTTYPE=image/png:https://nysrs.org/wp-content/uploads/2024/10/NYSRS-All-Member-Meetings.png
END:VEVENT
BEGIN:VEVENT
DTSTART;TZID=America/New_York:20260321T170000
DTEND;TZID=America/New_York:20260321T210000
DTSTAMP:20260425T121146
CREATED:20251222T151420Z
LAST-MODIFIED:20251222T151719Z
UID:8378-1774112400-1774126800@nysrs.org
SUMMARY:NYSRS Board Meeting Spring 2026
DESCRIPTION:« All Events\n 				\n				\n				\n				\n					This event has passed. \n				\n				\n				\n				\n					\n	NYSRS Board Meeting Spring 2025				\n				\n				\n				\n					\n	\n	Date & Time:	\n			March 28\, 2025\n\n	\n\n	 @ \n\n\n5:00 pm\n\n			\n				\n				\n				\n				\n					\n	\n				\n				\n				\n						\n					\n			\n						\n				\n					\n	\n\n	Categories:	\n		Board Meeting\, NYSRS	\n\n				\n				\n					\n		\n				\n			\n						\n				\n					\n	\n	Organizer\n	NYSRS\n	\n	View Organizer Website \n\n\n\n				\n				\n					\n		\n					\n		\n				\n						\n					\n			\n							\n		\n					\n		\n				\n						\n					\n			\n						\n				\n					\n	\n		\n\n	\n	Add to calendar	\n		\n	\n\n		\n			\n									\n	Google Calendar\n\n									\n	iCalendar\n\n									\n	Outlook 365\n\n									\n	Outlook Live\n\n							\n		\n\n		\n	\n\n				\n				\n					\n		\n					\n		\n				\n						\n					\n			\n						\n				\n					\n	\n		\n\n				NYSRS Board Meeting Winter 2025	\n\n\n		\n	\n		NYSRS All Members Meeting Spring 2025
URL:https://nysrs.org/event/nysrs-board-meeting-spring-2026-2/
CATEGORIES:Board Meeting,NYSRS
ATTACH;FMTTYPE=image/png:https://nysrs.org/wp-content/uploads/2024/10/NYSRS-Board-Meeting-1.png
END:VEVENT
BEGIN:VEVENT
DTSTART;VALUE=DATE:20260502
DTEND;VALUE=DATE:20260507
DTSTAMP:20260425T121146
CREATED:20251222T151908Z
LAST-MODIFIED:20251222T152137Z
UID:8390-1777680000-1778111999@nysrs.org
SUMMARY:ACR Annual Meeting 2026
DESCRIPTION:« All Events\n 				\n				\n				\n				\n					This event has passed. \n				\n				\n				\n				\n					\n	NYSRS Board Meeting Spring 2025				\n				\n				\n				\n					\n	\n	Date & Time:	\n			March 28\, 2025\n\n	\n\n	 @ \n\n\n5:00 pm\n\n			\n				\n				\n				\n				\n					\n	\n				\n				\n				\n						\n					\n			\n						\n				\n					\n	\n\n	Categories:	\n		Board Meeting\, NYSRS	\n\n				\n				\n					\n		\n				\n			\n						\n				\n					\n	\n	Organizer\n	NYSRS\n	\n	View Organizer Website \n\n\n\n				\n				\n					\n		\n					\n		\n				\n						\n					\n			\n							\n		\n					\n		\n				\n						\n					\n			\n						\n				\n					\n	\n		\n\n	\n	Add to calendar	\n		\n	\n\n		\n			\n									\n	Google Calendar\n\n									\n	iCalendar\n\n									\n	Outlook 365\n\n									\n	Outlook Live\n\n							\n		\n\n		\n	\n\n				\n				\n					\n		\n					\n		\n				\n						\n					\n			\n						\n				\n					\n	\n		\n\n				NYSRS Board Meeting Winter 2025	\n\n\n		\n	\n		NYSRS All Members Meeting Spring 2025
URL:https://nysrs.org/event/acr-annual-meeting-2026/
CATEGORIES:ACR
ATTACH;FMTTYPE=image/png:https://nysrs.org/wp-content/uploads/2025/12/ACR-Annual-Meeting.png
END:VEVENT
BEGIN:VEVENT
DTSTART;VALUE=DATE:20260717
DTEND;VALUE=DATE:20260720
DTSTAMP:20260425T121147
CREATED:20260120T003401Z
LAST-MODIFIED:20260120T003552Z
UID:8467-1784246400-1784505599@nysrs.org
SUMMARY:2026 Annual Meeting FRS & FRBMA
DESCRIPTION:« All Events\n 				\n				\n				\n				\n					This event has passed. \n				\n				\n				\n				\n					\n	NYSRS Board Meeting Spring 2025				\n				\n				\n				\n					\n	\n	Date & Time:	\n			March 28\, 2025\n\n	\n\n	 @ \n\n\n5:00 pm\n\n			\n				\n				\n				\n				\n					\n	\n				\n				\n				\n						\n					\n			\n						\n				\n					\n	\n\n	Categories:	\n		Board Meeting\, NYSRS	\n\n				\n				\n					\n		\n				\n			\n						\n				\n					\n	\n	Organizer\n	NYSRS\n	\n	View Organizer Website \n\n\n\n				\n				\n					\n		\n					\n		\n				\n						\n					\n			\n							\n		\n					\n		\n				\n						\n					\n			\n						\n				\n					\n	\n		\n\n	\n	Add to calendar	\n		\n	\n\n		\n			\n									\n	Google Calendar\n\n									\n	iCalendar\n\n									\n	Outlook 365\n\n									\n	Outlook Live\n\n							\n		\n\n		\n	\n\n				\n				\n					\n		\n					\n		\n				\n						\n					\n			\n						\n				\n					\n	\n		\n\n				NYSRS Board Meeting Winter 2025	\n\n\n		\n	\n		NYSRS All Members Meeting Spring 2025
URL:https://nysrs.org/event/2026-annual-meeting-frs-frbma/
END:VEVENT
BEGIN:VEVENT
DTSTART;TZID=America/New_York:20260723T170000
DTEND;TZID=America/New_York:20260723T210000
DTSTAMP:20260425T121147
CREATED:20251222T151228Z
LAST-MODIFIED:20251222T151333Z
UID:8375-1784826000-1784840400@nysrs.org
SUMMARY:NYSRS Board Meeting Summer 2026
DESCRIPTION:« All Events\n 				\n				\n				\n				\n					This event has passed. \n				\n				\n				\n				\n					\n	NYSRS Board Meeting Spring 2025				\n				\n				\n				\n					\n	\n	Date & Time:	\n			March 28\, 2025\n\n	\n\n	 @ \n\n\n5:00 pm\n\n			\n				\n				\n				\n				\n					\n	\n				\n				\n				\n						\n					\n			\n						\n				\n					\n	\n\n	Categories:	\n		Board Meeting\, NYSRS	\n\n				\n				\n					\n		\n				\n			\n						\n				\n					\n	\n	Organizer\n	NYSRS\n	\n	View Organizer Website \n\n\n\n				\n				\n					\n		\n					\n		\n				\n						\n					\n			\n							\n		\n					\n		\n				\n						\n					\n			\n						\n				\n					\n	\n		\n\n	\n	Add to calendar	\n		\n	\n\n		\n			\n									\n	Google Calendar\n\n									\n	iCalendar\n\n									\n	Outlook 365\n\n									\n	Outlook Live\n\n							\n		\n\n		\n	\n\n				\n				\n					\n		\n					\n		\n				\n						\n					\n			\n						\n				\n					\n	\n		\n\n				NYSRS Board Meeting Winter 2025	\n\n\n		\n	\n		NYSRS All Members Meeting Spring 2025
URL:https://nysrs.org/event/nysrs-board-meeting-spring-2026/
CATEGORIES:Board Meeting,NYSRS
ATTACH;FMTTYPE=image/png:https://nysrs.org/wp-content/uploads/2024/10/NYSRS-Board-Meeting-1.png
END:VEVENT
BEGIN:VEVENT
DTSTART;TZID=America/New_York:20261016T170000
DTEND;TZID=America/New_York:20261016T210000
DTSTAMP:20260425T121147
CREATED:20251222T151538Z
LAST-MODIFIED:20251222T151538Z
UID:8383-1792170000-1792184400@nysrs.org
SUMMARY:NYSRS Board Meeting Fall 2026
DESCRIPTION:« All Events\n 				\n				\n				\n				\n					This event has passed. \n				\n				\n				\n				\n					\n	NYSRS Board Meeting Spring 2025				\n				\n				\n				\n					\n	\n	Date & Time:	\n			March 28\, 2025\n\n	\n\n	 @ \n\n\n5:00 pm\n\n			\n				\n				\n				\n				\n					\n	\n				\n				\n				\n						\n					\n			\n						\n				\n					\n	\n\n	Categories:	\n		Board Meeting\, NYSRS	\n\n				\n				\n					\n		\n				\n			\n						\n				\n					\n	\n	Organizer\n	NYSRS\n	\n	View Organizer Website \n\n\n\n				\n				\n					\n		\n					\n		\n				\n						\n					\n			\n							\n		\n					\n		\n				\n						\n					\n			\n						\n				\n					\n	\n		\n\n	\n	Add to calendar	\n		\n	\n\n		\n			\n									\n	Google Calendar\n\n									\n	iCalendar\n\n									\n	Outlook 365\n\n									\n	Outlook Live\n\n							\n		\n\n		\n	\n\n				\n				\n					\n		\n					\n		\n				\n						\n					\n			\n						\n				\n					\n	\n		\n\n				NYSRS Board Meeting Winter 2025	\n\n\n		\n	\n		NYSRS All Members Meeting Spring 2025
URL:https://nysrs.org/event/nysrs-board-meeting-fall-2026/
CATEGORIES:Board Meeting,NYSRS
ATTACH;FMTTYPE=image/png:https://nysrs.org/wp-content/uploads/2024/10/NYSRS-Board-Meeting-1.png
END:VEVENT
BEGIN:VEVENT
DTSTART;TZID=America/New_York:20261017T080000
DTEND;TZID=America/New_York:20261017T120000
DTSTAMP:20260425T121147
CREATED:20251222T151804Z
LAST-MODIFIED:20251222T151804Z
UID:8388-1792224000-1792238400@nysrs.org
SUMMARY:NYSRS All Members Meeting Fall 2026
DESCRIPTION:« All Events\n 				\n				\n				\n				\n					This event has passed. \n				\n				\n				\n				\n					\n	NYSRS Board Meeting Spring 2025				\n				\n				\n				\n					\n	\n	Date & Time:	\n			March 28\, 2025\n\n	\n\n	 @ \n\n\n5:00 pm\n\n			\n				\n				\n				\n				\n					\n	\n				\n				\n				\n						\n					\n			\n						\n				\n					\n	\n\n	Categories:	\n		Board Meeting\, NYSRS	\n\n				\n				\n					\n		\n				\n			\n						\n				\n					\n	\n	Organizer\n	NYSRS\n	\n	View Organizer Website \n\n\n\n				\n				\n					\n		\n					\n		\n				\n						\n					\n			\n							\n		\n					\n		\n				\n						\n					\n			\n						\n				\n					\n	\n		\n\n	\n	Add to calendar	\n		\n	\n\n		\n			\n									\n	Google Calendar\n\n									\n	iCalendar\n\n									\n	Outlook 365\n\n									\n	Outlook Live\n\n							\n		\n\n		\n	\n\n				\n				\n					\n		\n					\n		\n				\n						\n					\n			\n						\n				\n					\n	\n		\n\n				NYSRS Board Meeting Winter 2025	\n\n\n		\n	\n		NYSRS All Members Meeting Spring 2025
URL:https://nysrs.org/event/nysrs-all-members-meeting-fall-2026/
CATEGORIES:All Members Meeting,NYSRS
ATTACH;FMTTYPE=image/png:https://nysrs.org/wp-content/uploads/2024/10/NYSRS-All-Member-Meetings.png
END:VEVENT
END:VCALENDAR