BEGIN:VCALENDAR
VERSION:2.0
PRODID:-//New York State Radiological Society - ECPv6.15.20//NONSGML v1.0//EN
CALSCALE:GREGORIAN
METHOD:PUBLISH
X-ORIGINAL-URL:https://nysrs.org
X-WR-CALDESC:Events for New York State Radiological Society
REFRESH-INTERVAL;VALUE=DURATION:PT1H
X-Robots-Tag:noindex
X-PUBLISHED-TTL:PT1H
BEGIN:VTIMEZONE
TZID:America/New_York
BEGIN:DAYLIGHT
TZOFFSETFROM:-0500
TZOFFSETTO:-0400
TZNAME:EDT
DTSTART:20230312T070000
END:DAYLIGHT
BEGIN:STANDARD
TZOFFSETFROM:-0400
TZOFFSETTO:-0500
TZNAME:EST
DTSTART:20231105T060000
END:STANDARD
BEGIN:DAYLIGHT
TZOFFSETFROM:-0500
TZOFFSETTO:-0400
TZNAME:EDT
DTSTART:20240310T070000
END:DAYLIGHT
BEGIN:STANDARD
TZOFFSETFROM:-0400
TZOFFSETTO:-0500
TZNAME:EST
DTSTART:20241103T060000
END:STANDARD
BEGIN:DAYLIGHT
TZOFFSETFROM:-0500
TZOFFSETTO:-0400
TZNAME:EDT
DTSTART:20250309T070000
END:DAYLIGHT
BEGIN:STANDARD
TZOFFSETFROM:-0400
TZOFFSETTO:-0500
TZNAME:EST
DTSTART:20251102T060000
END:STANDARD
END:VTIMEZONE
BEGIN:VEVENT
DTSTART;TZID=America/New_York:20241211T120000
DTEND;TZID=America/New_York:20241211T130000
DTSTAMP:20260424T091350
CREATED:20241129T170012Z
LAST-MODIFIED:20241130T215346Z
UID:6467-1733918400-1733922000@nysrs.org
SUMMARY:Paid Family Leave: Redesigning the Radiology Workplace of the Future
DESCRIPTION:« All Events \nPaid Family Leave: Redesigning the Radiology Workplace of the Future\nDecember 11\, 2025\n@\n12:00 pm\n–\n1:00 pm\n \nTo Registrants\, \nPlease complete the registration form below before joining the event. \nWebinar Registration Form \nThank you.\nJenny Bencardino\, MD\nVice-Chair\, Academic Affairs\nDepartment of Radiology\nMontefiore Medical Center \nCategories:\nNYSRS\n\n\nAdd to calendar \n  \n\nGoogle Calendar\niCalendar\nOutlook 365\nOutlook Live\n\n\n\n\nNYSRS All Members Meeting Fall 2025
URL:https://nysrs.org/event/paid-family-leave/
CATEGORIES:NYSRS
ATTACH;FMTTYPE=image/png:https://nysrs.org/wp-content/uploads/2024/11/Paid-Family-Leave-Redesigning-the-Radiology-Workplace-of-the-Future.png
END:VEVENT
BEGIN:VEVENT
DTSTART;TZID=America/New_York:20241219T170000
DTEND;TZID=America/New_York:20241219T180000
DTSTAMP:20260424T091350
CREATED:20241206T221718Z
LAST-MODIFIED:20241206T222450Z
UID:6494-1734627600-1734631200@nysrs.org
SUMMARY:Personal Finance Session
DESCRIPTION:« All Events\n \n\n	Personal Finance Session\n\n			December 19\, 2024\n	 @\n5:00 pm\n	 –\n6:00 pm\n	\n	\n					\n									JOIN ZOOM HERE\n					 \n\n	Categories:\n		NYSRS\, YPS	 \n\n	Website:\n	ZOOM LINK\n\n	\n	Add to calendar	\n		\n	\n \n\n\n	Google Calendar\n\n\n	iCalendar\n\n\n	Outlook 365\n\n\n	Outlook Live\n\n\n\n\n\n\n				Paid Family Leave: Redesigning the Radiology Workplace of the Future	\n\n\n	\n		NYSRS Board Meeting Winter 2025
URL:https://nysrs.org/event/personal-finance-session/
CATEGORIES:NYSRS,YPS
ATTACH;FMTTYPE=image/png:https://nysrs.org/wp-content/uploads/2024/12/YPS-Personal-Finance-Session.png
END:VEVENT
END:VCALENDAR